BEGIN:VCALENDAR
VERSION:2.0
X-WR-CALNAME:MATH 3C (B00) - Precalculus
METHOD:PUBLISH
BEGIN:VEVENT
ORGANIZER:
DTSTART:20240216T040000Z
DTEND:20240216T055000Z
LOCATION: 
UID:620260423T225337Z
DTSTAMP:20260423T225337Z
SUMMARY:MATH 3C (B00) (MI)
DESCRIPTION:
PRIORITY:5
CLASS:PUBLIC
END:VEVENT
BEGIN:VEVENT
ORGANIZER:
DTSTART:20240316T220000Z
DTEND:20240317T005900Z
LOCATION: TBA
UID:720260423T225337Z
DTSTAMP:20260423T225337Z
SUMMARY:MATH 3C (B00) (FI)
DESCRIPTION:
PRIORITY:5
CLASS:PUBLIC
END:VEVENT
END:VCALENDAR