BEGIN:VCALENDAR
VERSION:2.0
X-WR-CALNAME:CHEM 100A (A00) - Analytical Chemistry Lab
METHOD:PUBLISH
BEGIN:VEVENT
ORGANIZER:
DTSTART:20260128T040000Z
DTEND:20260128T055000Z
LOCATION:CENTR 216
UID:820260423T214150Z
DTSTAMP:20260423T214150Z
SUMMARY:CHEM 100A (A00) (MI)
DESCRIPTION:
PRIORITY:5
CLASS:PUBLIC
END:VEVENT
BEGIN:VEVENT
ORGANIZER:
DTSTART:20260225T040000Z
DTEND:20260225T055000Z
LOCATION:CENTR 216
UID:920260423T214150Z
DTSTAMP:20260423T214150Z
SUMMARY:CHEM 100A (A00) (MI)
DESCRIPTION:
PRIORITY:5
CLASS:PUBLIC
END:VEVENT
BEGIN:VEVENT
ORGANIZER:
DTSTART:20260318T183000Z
DTEND:20260318T212900Z
LOCATION: TBA
UID:1020260423T214150Z
DTSTAMP:20260423T214150Z
SUMMARY:CHEM 100A (A00) (FI)
DESCRIPTION:
PRIORITY:5
CLASS:PUBLIC
END:VEVENT
END:VCALENDAR