BEGIN:VCALENDAR
VERSION:2.0
X-WR-CALNAME:CHEM 6B (A00) - General Chemistry II
METHOD:PUBLISH
BEGIN:VEVENT
ORGANIZER:
DTSTART:20230203T040000Z
DTEND:20230203T055000Z
LOCATION:YORK 2722
UID:820260423T224649Z
DTSTAMP:20260423T224649Z
SUMMARY:CHEM 6B (A00) (MI)
DESCRIPTION:
PRIORITY:5
CLASS:PUBLIC
END:VEVENT
BEGIN:VEVENT
ORGANIZER:
DTSTART:20230303T040000Z
DTEND:20230303T055000Z
LOCATION:YORK 2722
UID:920260423T224649Z
DTSTAMP:20260423T224649Z
SUMMARY:CHEM 6B (A00) (MI)
DESCRIPTION:
PRIORITY:5
CLASS:PUBLIC
END:VEVENT
BEGIN:VEVENT
ORGANIZER:
DTSTART:20230318T150000Z
DTEND:20230318T175900Z
LOCATION: TBA
UID:1020260423T224649Z
DTSTAMP:20260423T224649Z
SUMMARY:CHEM 6B (A00) (FI)
DESCRIPTION:
PRIORITY:5
CLASS:PUBLIC
END:VEVENT
END:VCALENDAR