BEGIN:VCALENDAR
VERSION:2.0
X-WR-CALNAME:MATH 245A (A00) - Convex Analysis & Optimiz I
METHOD:PUBLISH
BEGIN:VEVENT
ORGANIZER:
DTSTART:20260317T220000Z
DTEND:20260318T005900Z
LOCATION: TBA
UID:220260423T233613Z
DTSTAMP:20260423T233613Z
SUMMARY:MATH 245A (A00) (FI)
DESCRIPTION:
PRIORITY:5
CLASS:PUBLIC
END:VEVENT
END:VCALENDAR