BEGIN:VCALENDAR
VERSION:2.0
X-WR-CALNAME:POLI 153 (A00) - The EU in World Politics
METHOD:PUBLISH
BEGIN:VEVENT
ORGANIZER:
DTSTART:20200318T220000Z
DTEND:20200319T005900Z
LOCATION: TBA
UID:220260423T235812Z
DTSTAMP:20260423T235812Z
SUMMARY:POLI 153 (A00) (FI)
DESCRIPTION:
PRIORITY:5
CLASS:PUBLIC
END:VEVENT
END:VCALENDAR