BEGIN:VCALENDAR
VERSION:2.0
X-WR-CALNAME:ANSC 164 (A00) - Intro to Medical Anthropology
METHOD:PUBLISH
BEGIN:VEVENT
ORGANIZER:
DTSTART:20260318T150000Z
DTEND:20260318T175900Z
LOCATION: TBA
UID:220260423T221854Z
DTSTAMP:20260423T221854Z
SUMMARY:ANSC 164 (A00) (FI)
DESCRIPTION:
PRIORITY:5
CLASS:PUBLIC
END:VEVENT
END:VCALENDAR