BEGIN:VCALENDAR
VERSION:2.0
X-WR-CALNAME:HINE 119 (A00) - U.S. Mid-East Policy-Post WWII
METHOD:PUBLISH
BEGIN:VEVENT
ORGANIZER:
DTSTART:20260320T150000Z
DTEND:20260320T175900Z
LOCATION: TBA
UID:220260423T235026Z
DTSTAMP:20260423T235026Z
SUMMARY:HINE 119 (A00) (FI)
DESCRIPTION:
PRIORITY:5
CLASS:PUBLIC
END:VEVENT
END:VCALENDAR