BEGIN:VCALENDAR
VERSION:2.0
X-WR-CALNAME:POLI 12D (A00) - Intro/Poli Sci:Int'l Relations
METHOD:PUBLISH
BEGIN:VEVENT
ORGANIZER:
DTSTART:20191210T193000Z
DTEND:20191210T222900Z
LOCATION: TBA
UID:1020260423T234130Z
DTSTAMP:20260423T234130Z
SUMMARY:POLI 12D (A00) (FI)
DESCRIPTION:
PRIORITY:5
CLASS:PUBLIC
END:VEVENT
END:VCALENDAR