BEGIN:VCALENDAR
VERSION:2.0
X-WR-CALNAME:PHYS 5 (A00) - Stars and Black Holes
METHOD:PUBLISH
BEGIN:VEVENT
ORGANIZER:
DTSTART:20191212T010000Z
DTEND:20191212T025000Z
LOCATION:WLH 2005
UID:320260424T001638Z
DTSTAMP:20260424T001638Z
SUMMARY:PHYS 5 (A00) (RE)
DESCRIPTION:
PRIORITY:5
CLASS:PUBLIC
END:VEVENT
BEGIN:VEVENT
ORGANIZER:
DTSTART:20191213T193000Z
DTEND:20191213T222900Z
LOCATION: TBA
UID:420260424T001638Z
DTSTAMP:20260424T001638Z
SUMMARY:PHYS 5 (A00) (FI)
DESCRIPTION:
PRIORITY:5
CLASS:PUBLIC
END:VEVENT
END:VCALENDAR