BEGIN:VCALENDAR
VERSION:2.0
X-WR-CALNAME:POLI 120E (A00) - Scandinavian Politics
METHOD:PUBLISH
BEGIN:VEVENT
ORGANIZER:
DTSTART:20190907T183000Z
DTEND:20190907T212900Z
LOCATION: TBA
UID:220260423T230816Z
DTSTAMP:20260423T230816Z
SUMMARY:POLI 120E (A00) (FI)
DESCRIPTION:
PRIORITY:5
CLASS:PUBLIC
END:VEVENT
END:VCALENDAR