BEGIN:VCALENDAR
VERSION:2.0
X-WR-CALNAME:MATH 11 (A00) - Calculus-Based Prob & Stats
METHOD:PUBLISH
BEGIN:VEVENT
ORGANIZER:
DTSTART:20190804T020000Z
DTEND:20190804T045900Z
LOCATION: TBA
UID:620260424T000315Z
DTSTAMP:20260424T000315Z
SUMMARY:MATH 11 (A00) (FI)
DESCRIPTION:
PRIORITY:5
CLASS:PUBLIC
END:VEVENT
END:VCALENDAR