BEGIN:VCALENDAR
VERSION:2.0
X-WR-CALNAME:POLI 12D (A00) - Intro/Poli Sci:Int'l Relations
METHOD:PUBLISH
BEGIN:VEVENT
ORGANIZER:
DTSTART:20190614T183000Z
DTEND:20190614T212900Z
LOCATION: TBA
UID:1020260424T002431Z
DTSTAMP:20260424T002431Z
SUMMARY:POLI 12D (A00) (FI)
DESCRIPTION:
PRIORITY:5
CLASS:PUBLIC
END:VEVENT
END:VCALENDAR