BEGIN:VCALENDAR
VERSION:2.0
X-WR-CALNAME:ECE 101 (A00) - Linear Systems Fundamentals
METHOD:PUBLISH
BEGIN:VEVENT
ORGANIZER:
DTSTART:20190317T220000Z
DTEND:20190317T235000Z
LOCATION:WLH 2114
UID:420260424T000910Z
DTSTAMP:20260424T000910Z
SUMMARY:ECE 101 (A00) (RE)
DESCRIPTION:
PRIORITY:5
CLASS:PUBLIC
END:VEVENT
BEGIN:VEVENT
ORGANIZER:
DTSTART:20190320T183000Z
DTEND:20190320T212900Z
LOCATION: TBA
UID:520260424T000910Z
DTSTAMP:20260424T000910Z
SUMMARY:ECE 101 (A00) (FI)
DESCRIPTION:
PRIORITY:5
CLASS:PUBLIC
END:VEVENT
END:VCALENDAR