BEGIN:VCALENDAR
VERSION:2.0
X-WR-CALNAME:PSYC 101 (A00) - Developmental Psychology
METHOD:PUBLISH
BEGIN:VEVENT
ORGANIZER:
DTSTART:20190322T150000Z
DTEND:20190322T175900Z
LOCATION: TBA
UID:220260424T001506Z
DTSTAMP:20260424T001506Z
SUMMARY:PSYC 101 (A00) (FI)
DESCRIPTION:
PRIORITY:5
CLASS:PUBLIC
END:VEVENT
END:VCALENDAR