BEGIN:VCALENDAR
VERSION:2.0
X-WR-CALNAME:ETHN 189 (A00) - Special Topics/Ethnic Studies
METHOD:PUBLISH
BEGIN:VEVENT
ORGANIZER:
DTSTART:20190318T220000Z
DTEND:20190319T005900Z
LOCATION: TBA
UID:220260423T232206Z
DTSTAMP:20260423T232206Z
SUMMARY:ETHN 189 (A00) (FI)
DESCRIPTION:
PRIORITY:5
CLASS:PUBLIC
END:VEVENT
END:VCALENDAR