BEGIN:VCALENDAR
VERSION:2.0
X-WR-CALNAME:ANAR 113 (A00) - Natural Resources in Israel
METHOD:PUBLISH
BEGIN:VEVENT
ORGANIZER:
DTSTART:20181210T230000Z
DTEND:20181211T015900Z
LOCATION: TBA
UID:220260423T224757Z
DTSTAMP:20260423T224757Z
SUMMARY:ANAR 113 (A00) (FI)
DESCRIPTION:
PRIORITY:5
CLASS:PUBLIC
END:VEVENT
END:VCALENDAR