BEGIN:VCALENDAR
VERSION:2.0
X-WR-CALNAME:POLI 100G (A00) - How to Win or Lose an Election
METHOD:PUBLISH
BEGIN:VEVENT
ORGANIZER:
DTSTART:20181214T030000Z
DTEND:20181214T055900Z
LOCATION: TBA
UID:220260423T235852Z
DTSTAMP:20260423T235852Z
SUMMARY:POLI 100G (A00) (FI)
DESCRIPTION:
PRIORITY:5
CLASS:PUBLIC
END:VEVENT
END:VCALENDAR