BEGIN:VCALENDAR
VERSION:2.0
X-WR-CALNAME:POLI 142K (A00) - Politics and Warfare
METHOD:PUBLISH
BEGIN:VEVENT
ORGANIZER:
DTSTART:20180907T183000Z
DTEND:20180907T212900Z
LOCATION: TBA
UID:220260424T003755Z
DTSTAMP:20260424T003755Z
SUMMARY:POLI 142K (A00) (FI)
DESCRIPTION:
PRIORITY:5
CLASS:PUBLIC
END:VEVENT
END:VCALENDAR