BEGIN:VCALENDAR
VERSION:2.0
X-WR-CALNAME:POLI 104A (A00) - Supreme Court & Constitution
METHOD:PUBLISH
BEGIN:VEVENT
ORGANIZER:
DTSTART:20180803T183000Z
DTEND:20180803T212900Z
LOCATION: TBA
UID:220260423T235553Z
DTSTAMP:20260423T235553Z
SUMMARY:POLI 104A (A00) (FI)
DESCRIPTION:
PRIORITY:5
CLASS:PUBLIC
END:VEVENT
END:VCALENDAR