BEGIN:VCALENDAR
VERSION:2.0
X-WR-CALNAME:ECON 5 (I00) - Data Analytics/Social Sciences
METHOD:PUBLISH
BEGIN:VEVENT
ORGANIZER:
DTSTART:20180614T020000Z
DTEND:20180614T045900Z
LOCATION: TBA
UID:320260423T232748Z
DTSTAMP:20260423T232748Z
SUMMARY:ECON 5 (I00) (FI)
DESCRIPTION:
PRIORITY:5
CLASS:PUBLIC
END:VEVENT
END:VCALENDAR