BEGIN:VCALENDAR
VERSION:2.0
X-WR-CALNAME:POLI 5D (F00) - Data Analytics/Social Sciences
METHOD:PUBLISH
BEGIN:VEVENT
ORGANIZER:
DTSTART:20180612T150000Z
DTEND:20180612T175900Z
LOCATION: TBA
UID:320260423T233106Z
DTSTAMP:20260423T233106Z
SUMMARY:POLI 5D (F00) (FI)
DESCRIPTION:
PRIORITY:5
CLASS:PUBLIC
END:VEVENT
END:VCALENDAR