BEGIN:VCALENDAR
VERSION:2.0
X-WR-CALNAME:POLI 5D (C00) - Data Analytics/Social Sciences
METHOD:PUBLISH
BEGIN:VEVENT
ORGANIZER:
DTSTART:20180614T220000Z
DTEND:20180615T005900Z
LOCATION: TBA
UID:320260423T233106Z
DTSTAMP:20260423T233106Z
SUMMARY:POLI 5D (C00) (FI)
DESCRIPTION:
PRIORITY:5
CLASS:PUBLIC
END:VEVENT
END:VCALENDAR