BEGIN:VCALENDAR
VERSION:2.0
X-WR-CALNAME:POLI 165 (A00) - Special Topics:Policy Analysis
METHOD:PUBLISH
BEGIN:VEVENT
ORGANIZER:
DTSTART:20180614T020000Z
DTEND:20180614T045900Z
LOCATION: TBA
UID:220260423T234130Z
DTSTAMP:20260423T234130Z
SUMMARY:POLI 165 (A00) (FI)
DESCRIPTION:
PRIORITY:5
CLASS:PUBLIC
END:VEVENT
END:VCALENDAR