BEGIN:VCALENDAR
VERSION:2.0
X-WR-CALNAME:MATH 11 (A00) - Calculus-Based Prob & Stats
METHOD:PUBLISH
BEGIN:VEVENT
ORGANIZER:
DTSTART:20251021T030000Z
DTEND:20251021T035000Z
LOCATION:YORK 2722
UID:920260424T001447Z
DTSTAMP:20260424T001447Z
SUMMARY:MATH 11 (A00) (MI)
DESCRIPTION:
PRIORITY:5
CLASS:PUBLIC
END:VEVENT
BEGIN:VEVENT
ORGANIZER:
DTSTART:20251118T040000Z
DTEND:20251118T045000Z
LOCATION:YORK 2722
UID:1020260424T001447Z
DTSTAMP:20260424T001447Z
SUMMARY:MATH 11 (A00) (MI)
DESCRIPTION:
PRIORITY:5
CLASS:PUBLIC
END:VEVENT
BEGIN:VEVENT
ORGANIZER:
DTSTART:20251206T160000Z
DTEND:20251206T185900Z
LOCATION: TBA
UID:1120260424T001447Z
DTSTAMP:20260424T001447Z
SUMMARY:MATH 11 (A00) (FI)
DESCRIPTION:
PRIORITY:5
CLASS:PUBLIC
END:VEVENT
END:VCALENDAR