BEGIN:VCALENDAR
VERSION:2.0
X-WR-CALNAME:BIBC 102 (B00) - Metabolic Biochemistry
METHOD:PUBLISH
BEGIN:VEVENT
ORGANIZER:
DTSTART:20180127T020000Z
DTEND:20180127T035000Z
LOCATION:CENTR 101
UID:1120260423T235212Z
DTSTAMP:20260423T235212Z
SUMMARY:BIBC 102 (B00) (RE)
DESCRIPTION:
PRIORITY:5
CLASS:PUBLIC
END:VEVENT
BEGIN:VEVENT
ORGANIZER:
DTSTART:20180224T020000Z
DTEND:20180224T035000Z
LOCATION:CENTR 101
UID:1220260423T235212Z
DTSTAMP:20260423T235212Z
SUMMARY:BIBC 102 (B00) (RE)
DESCRIPTION:
PRIORITY:5
CLASS:PUBLIC
END:VEVENT
BEGIN:VEVENT
ORGANIZER:
DTSTART:20180317T010000Z
DTEND:20180317T025000Z
LOCATION:CENTR 101
UID:1320260423T235212Z
DTSTAMP:20260423T235212Z
SUMMARY:BIBC 102 (B00) (RE)
DESCRIPTION:
PRIORITY:5
CLASS:PUBLIC
END:VEVENT
BEGIN:VEVENT
ORGANIZER:
DTSTART:20180323T220000Z
DTEND:20180324T005900Z
LOCATION: TBA
UID:1420260423T235212Z
DTSTAMP:20260423T235212Z
SUMMARY:BIBC 102 (B00) (FI)
DESCRIPTION:
PRIORITY:5
CLASS:PUBLIC
END:VEVENT
END:VCALENDAR