BEGIN:VCALENDAR
VERSION:2.0
X-WR-CALNAME:POLI 138D (A00) - Spec Topic/Comparatve Politics
METHOD:PUBLISH
BEGIN:VEVENT
ORGANIZER:
DTSTART:20180323T150000Z
DTEND:20180323T175900Z
LOCATION: TBA
UID:220260424T000910Z
DTSTAMP:20260424T000910Z
SUMMARY:POLI 138D (A00) (FI)
DESCRIPTION:
PRIORITY:5
CLASS:PUBLIC
END:VEVENT
END:VCALENDAR