BEGIN:VCALENDAR
VERSION:2.0
X-WR-CALNAME:LATI 50 (A00) - Introduction to Latin America
METHOD:PUBLISH
BEGIN:VEVENT
ORGANIZER:
DTSTART:20251209T193000Z
DTEND:20251209T222900Z
LOCATION: TBA
UID:820260423T220628Z
DTSTAMP:20260423T220628Z
SUMMARY:LATI 50 (A00) (FI)
DESCRIPTION:
PRIORITY:5
CLASS:PUBLIC
END:VEVENT
END:VCALENDAR