BEGIN:VCALENDAR
VERSION:2.0
X-WR-CALNAME:BICD 100 (A00) - Genetics
METHOD:PUBLISH
BEGIN:VEVENT
ORGANIZER:
DTSTART:20170909T150000Z
DTEND:20170909T175900Z
LOCATION: TBA
UID:420260424T000315Z
DTSTAMP:20260424T000315Z
SUMMARY:BICD 100 (A00) (FI)
DESCRIPTION:
PRIORITY:5
CLASS:PUBLIC
END:VEVENT
END:VCALENDAR