BEGIN:VCALENDAR
VERSION:2.0
X-WR-CALNAME:BICD 100 (A00) - Genetics
METHOD:PUBLISH
BEGIN:VEVENT
ORGANIZER:
DTSTART:20171209T190000Z
DTEND:20171209T205000Z
LOCATION:YORK 2622
UID:1320260423T235553Z
DTSTAMP:20260423T235553Z
SUMMARY:BICD 100 (A00) (RE)
DESCRIPTION:
PRIORITY:5
CLASS:PUBLIC
END:VEVENT
BEGIN:VEVENT
ORGANIZER:
DTSTART:20171210T220000Z
DTEND:20171210T235000Z
LOCATION:CENTR 222
UID:1520260423T235553Z
DTSTAMP:20260423T235553Z
SUMMARY:BICD 100 (A00) (RE)
DESCRIPTION:
PRIORITY:5
CLASS:PUBLIC
END:VEVENT
BEGIN:VEVENT
ORGANIZER:
DTSTART:20171213T030000Z
DTEND:20171213T055900Z
LOCATION: TBA
UID:1620260423T235553Z
DTSTAMP:20260423T235553Z
SUMMARY:BICD 100 (A00) (FI)
DESCRIPTION:
PRIORITY:5
CLASS:PUBLIC
END:VEVENT
END:VCALENDAR