BEGIN:VCALENDAR
VERSION:2.0
X-WR-CALNAME:CHEM 114A (B00) - Biochemical Structure&Function
METHOD:PUBLISH
BEGIN:VEVENT
ORGANIZER:
DTSTART:20251210T160000Z
DTEND:20251210T185900Z
LOCATION: TBA
UID:620260423T222905Z
DTSTAMP:20260423T222905Z
SUMMARY:CHEM 114A (B00) (FI)
DESCRIPTION:
PRIORITY:5
CLASS:PUBLIC
END:VEVENT
END:VCALENDAR