BEGIN:VCALENDAR
VERSION:2.0
X-WR-CALNAME:CHEM 43A (B00) - Organic Chemistry Laboratory
METHOD:PUBLISH
BEGIN:VEVENT
ORGANIZER:
DTSTART:20251101T010000Z
DTEND:20251101T025000Z
LOCATION:YORK 2722
UID:1220260424T004503Z
DTSTAMP:20260424T004503Z
SUMMARY:CHEM 43A (B00) (MI)
DESCRIPTION:
PRIORITY:5
CLASS:PUBLIC
END:VEVENT
BEGIN:VEVENT
ORGANIZER:
DTSTART:20251206T020000Z
DTEND:20251206T035000Z
LOCATION:YORK 2722
UID:1320260424T004503Z
DTSTAMP:20260424T004503Z
SUMMARY:CHEM 43A (B00) (MI)
DESCRIPTION:
PRIORITY:5
CLASS:PUBLIC
END:VEVENT
BEGIN:VEVENT
ORGANIZER:
DTSTART:20251212T160000Z
DTEND:20251212T185900Z
LOCATION: TBA
UID:1420260424T004503Z
DTSTAMP:20260424T004503Z
SUMMARY:CHEM 43A (B00) (FI)
DESCRIPTION:
PRIORITY:5
CLASS:PUBLIC
END:VEVENT
END:VCALENDAR