BEGIN:VCALENDAR
VERSION:2.0
X-WR-CALNAME:CHEM 6A (E00) - General Chemistry I
METHOD:PUBLISH
BEGIN:VEVENT
ORGANIZER:
DTSTART:20251018T200000Z
DTEND:20251018T215000Z
LOCATION:GH 242
UID:1120260423T235213Z
DTSTAMP:20260423T235213Z
SUMMARY:CHEM 6A (E00) (MI)
DESCRIPTION:
PRIORITY:5
CLASS:PUBLIC
END:VEVENT
BEGIN:VEVENT
ORGANIZER:
DTSTART:20251115T210000Z
DTEND:20251115T225000Z
LOCATION:GH 242
UID:1220260423T235213Z
DTSTAMP:20260423T235213Z
SUMMARY:CHEM 6A (E00) (MI)
DESCRIPTION:
PRIORITY:5
CLASS:PUBLIC
END:VEVENT
BEGIN:VEVENT
ORGANIZER:
DTSTART:20251212T193000Z
DTEND:20251212T222900Z
LOCATION: TBA
UID:1320260423T235213Z
DTSTAMP:20260423T235213Z
SUMMARY:CHEM 6A (E00) (FI)
DESCRIPTION:
PRIORITY:5
CLASS:PUBLIC
END:VEVENT
END:VCALENDAR