BEGIN:VCALENDAR
VERSION:2.0
X-WR-CALNAME:HINE 114 (A00) - History/Islamic Middle East
METHOD:PUBLISH
BEGIN:VEVENT
ORGANIZER:
DTSTART:20171214T160000Z
DTEND:20171214T185900Z
LOCATION: TBA
UID:220260423T225855Z
DTSTAMP:20260423T225855Z
SUMMARY:HINE 114 (A00) (FI)
DESCRIPTION:
PRIORITY:5
CLASS:PUBLIC
END:VEVENT
END:VCALENDAR