BEGIN:VCALENDAR
VERSION:2.0
X-WR-CALNAME:BILD 18 (A00) - Human Impact on the Environmnt
METHOD:PUBLISH
BEGIN:VEVENT
ORGANIZER:
DTSTART:20170804T183000Z
DTEND:20170804T212900Z
LOCATION: TBA
UID:320260423T235100Z
DTSTAMP:20260423T235100Z
SUMMARY:BILD 18 (A00) (FI)
DESCRIPTION:
PRIORITY:5
CLASS:PUBLIC
END:VEVENT
END:VCALENDAR