BEGIN:VCALENDAR
VERSION:2.0
X-WR-CALNAME:USP 101 (A00) - Introduction/Policy Analysis
METHOD:PUBLISH
BEGIN:VEVENT
ORGANIZER:
DTSTART:20170805T220000Z
DTEND:20170806T005900Z
LOCATION: TBA
UID:220260424T002431Z
DTSTAMP:20260424T002431Z
SUMMARY:USP 101 (A00) (FI)
DESCRIPTION:
PRIORITY:5
CLASS:PUBLIC
END:VEVENT
END:VCALENDAR