BEGIN:VCALENDAR
VERSION:2.0
X-WR-CALNAME:ANSC 173 (A00) - Ethnography in Practice
METHOD:PUBLISH
BEGIN:VEVENT
ORGANIZER:
DTSTART:20170613T150000Z
DTEND:20170613T175900Z
LOCATION: TBA
UID:220260424T003755Z
DTSTAMP:20260424T003755Z
SUMMARY:ANSC 173 (A00) (FI)
DESCRIPTION:
PRIORITY:5
CLASS:PUBLIC
END:VEVENT
END:VCALENDAR