BEGIN:VCALENDAR
VERSION:2.0
X-WR-CALNAME:HIEU 158 (B00) - Why Hitler? How Auschwitz?
METHOD:PUBLISH
BEGIN:VEVENT
ORGANIZER:
DTSTART:20170321T220000Z
DTEND:20170322T005900Z
LOCATION: TBA
UID:220260423T232206Z
DTSTAMP:20260423T232206Z
SUMMARY:HIEU 158 (B00) (FI)
DESCRIPTION:
PRIORITY:5
CLASS:PUBLIC
END:VEVENT
END:VCALENDAR