BEGIN:VCALENDAR
VERSION:2.0
X-WR-CALNAME:MAE 107 (A00) - Computational Methods/Engineer
METHOD:PUBLISH
BEGIN:VEVENT
ORGANIZER:
DTSTART:20221209T160000Z
DTEND:20221209T185900Z
LOCATION: TBA
UID:320260423T224649Z
DTSTAMP:20260423T224649Z
SUMMARY:MAE 107 (A00) (FI)
DESCRIPTION:
PRIORITY:5
CLASS:PUBLIC
END:VEVENT
END:VCALENDAR