BEGIN:VCALENDAR
VERSION:2.0
X-WR-CALNAME:COGS 118C (A00) - Neural Signal Processing
METHOD:PUBLISH
BEGIN:VEVENT
ORGANIZER:
DTSTART:20170614T150000Z
DTEND:20170614T175900Z
LOCATION: TBA
UID:420260423T235553Z
DTSTAMP:20260423T235553Z
SUMMARY:COGS 118C (A00) (FI)
DESCRIPTION:
PRIORITY:5
CLASS:PUBLIC
END:VEVENT
END:VCALENDAR