BEGIN:VCALENDAR
VERSION:2.0
X-WR-CALNAME:ANSC 146 (A00) - Global Health Persp/HIV
METHOD:PUBLISH
BEGIN:VEVENT
ORGANIZER:
DTSTART:20170612T183000Z
DTEND:20170612T212900Z
LOCATION: TBA
UID:220260423T235026Z
DTSTAMP:20260423T235026Z
SUMMARY:ANSC 146 (A00) (FI)
DESCRIPTION:
PRIORITY:5
CLASS:PUBLIC
END:VEVENT
END:VCALENDAR