BEGIN:VCALENDAR
VERSION:2.0
X-WR-CALNAME:BILD 22 (A00) - Human Nutrition
METHOD:PUBLISH
BEGIN:VEVENT
ORGANIZER:
DTSTART:20170430T200000Z
DTEND:20170430T225000Z
LOCATION:PETER 108
UID:1420260424T000114Z
DTSTAMP:20260424T000114Z
SUMMARY:BILD 22 (A00) (RE)
DESCRIPTION:
PRIORITY:5
CLASS:PUBLIC
END:VEVENT
BEGIN:VEVENT
ORGANIZER:
DTSTART:20170604T200000Z
DTEND:20170604T225000Z
LOCATION:GH 242
UID:1520260424T000114Z
DTSTAMP:20260424T000114Z
SUMMARY:BILD 22 (A00) (RE)
DESCRIPTION:
PRIORITY:5
CLASS:PUBLIC
END:VEVENT
BEGIN:VEVENT
ORGANIZER:
DTSTART:20170617T020000Z
DTEND:20170617T045900Z
LOCATION: TBA
UID:1620260424T000114Z
DTSTAMP:20260424T000114Z
SUMMARY:BILD 22 (A00) (FI)
DESCRIPTION:
PRIORITY:5
CLASS:PUBLIC
END:VEVENT
END:VCALENDAR