BEGIN:VCALENDAR
VERSION:2.0
X-WR-CALNAME:MATH 214 (B00) - Intro/Computatnl Stochastics
METHOD:PUBLISH
BEGIN:VEVENT
ORGANIZER:
DTSTART:20250611T220000Z
DTEND:20250612T005900Z
LOCATION: TBA
UID:420260423T233341Z
DTSTAMP:20260423T233341Z
SUMMARY:MATH 214 (B00) (FI)
DESCRIPTION:
PRIORITY:5
CLASS:PUBLIC
END:VEVENT
END:VCALENDAR