BEGIN:VCALENDAR
VERSION:2.0
X-WR-CALNAME:POLI 110C (A00) - Politcl Thought/Kant-Nietzsche
METHOD:PUBLISH
BEGIN:VEVENT
ORGANIZER:
DTSTART:20170614T183000Z
DTEND:20170614T212900Z
LOCATION: TBA
UID:220260423T234039Z
DTSTAMP:20260423T234039Z
SUMMARY:POLI 110C (A00) (FI)
DESCRIPTION:
PRIORITY:5
CLASS:PUBLIC
END:VEVENT
END:VCALENDAR