BEGIN:VCALENDAR
VERSION:2.0
X-WR-CALNAME:LTEN 178 (A00) - Comparative Ethnic Literature
METHOD:PUBLISH
BEGIN:VEVENT
ORGANIZER:
DTSTART:20170612T150000Z
DTEND:20170612T175900Z
LOCATION: TBA
UID:220260424T001355Z
DTSTAMP:20260424T001355Z
SUMMARY:LTEN 178 (A00) (FI)
DESCRIPTION:
PRIORITY:5
CLASS:PUBLIC
END:VEVENT
END:VCALENDAR