BEGIN:VCALENDAR
VERSION:2.0
X-WR-CALNAME:POLI 122 (A00) - Politics of Human Rights
METHOD:PUBLISH
BEGIN:VEVENT
ORGANIZER:
DTSTART:20161210T030000Z
DTEND:20161210T055900Z
LOCATION: TBA
UID:220260424T003755Z
DTSTAMP:20260424T003755Z
SUMMARY:POLI 122 (A00) (FI)
DESCRIPTION:
PRIORITY:5
CLASS:PUBLIC
END:VEVENT
END:VCALENDAR