BEGIN:VCALENDAR
VERSION:2.0
X-WR-CALNAME:POLI 13D (A00) - Power and Justice
METHOD:PUBLISH
BEGIN:VEVENT
ORGANIZER:
DTSTART:20161209T160000Z
DTEND:20161209T185900Z
LOCATION: TBA
UID:820260424T004103Z
DTSTAMP:20260424T004103Z
SUMMARY:POLI 13D (A00) (FI)
DESCRIPTION:
PRIORITY:5
CLASS:PUBLIC
END:VEVENT
END:VCALENDAR