BEGIN:VCALENDAR
VERSION:2.0
X-WR-CALNAME:SOCI 10 (A00) - AmSociety:SocialStruct&Culture
METHOD:PUBLISH
BEGIN:VEVENT
ORGANIZER:
DTSTART:20250611T220000Z
DTEND:20250612T005900Z
LOCATION: TBA
UID:620260423T235212Z
DTSTAMP:20260423T235212Z
SUMMARY:SOCI 10 (A00) (FI)
DESCRIPTION:
PRIORITY:5
CLASS:PUBLIC
END:VEVENT
END:VCALENDAR