BEGIN:VCALENDAR
VERSION:2.0
X-WR-CALNAME:MATH 277A (C00) - Topics in Comp&Applied Math
METHOD:PUBLISH
BEGIN:VEVENT
ORGANIZER:
DTSTART:20250321T150000Z
DTEND:20250321T175900Z
LOCATION: TBA
UID:220260423T222539Z
DTSTAMP:20260423T222539Z
SUMMARY:MATH 277A (C00) (FI)
DESCRIPTION:
PRIORITY:5
CLASS:PUBLIC
END:VEVENT
END:VCALENDAR