BEGIN:VCALENDAR
VERSION:2.0
X-WR-CALNAME:MATH 184 (A00) - Enumerative Combinatorics
METHOD:PUBLISH
BEGIN:VEVENT
ORGANIZER:
DTSTART:20250609T220000Z
DTEND:20250610T005900Z
LOCATION: TBA
UID:620260423T234130Z
DTSTAMP:20260423T234130Z
SUMMARY:MATH 184 (A00) (FI)
DESCRIPTION:
PRIORITY:5
CLASS:PUBLIC
END:VEVENT
END:VCALENDAR