BEGIN:VCALENDAR
VERSION:2.0
X-WR-CALNAME:MATH 154 (A00) - Discrete Math & Graph Theory
METHOD:PUBLISH
BEGIN:VEVENT
ORGANIZER:
DTSTART:20250423T030000Z
DTEND:20250423T042000Z
LOCATION:CENTR 105
UID:620260423T233613Z
DTSTAMP:20260423T233613Z
SUMMARY:MATH 154 (A00) (MI)
DESCRIPTION:
PRIORITY:5
CLASS:PUBLIC
END:VEVENT
BEGIN:VEVENT
ORGANIZER:
DTSTART:20250514T030000Z
DTEND:20250514T042000Z
LOCATION:CENTR 105
UID:720260423T233613Z
DTSTAMP:20260423T233613Z
SUMMARY:MATH 154 (A00) (MI)
DESCRIPTION:
PRIORITY:5
CLASS:PUBLIC
END:VEVENT
BEGIN:VEVENT
ORGANIZER:
DTSTART:20250611T150000Z
DTEND:20250611T175900Z
LOCATION: TBA
UID:820260423T233613Z
DTSTAMP:20260423T233613Z
SUMMARY:MATH 154 (A00) (FI)
DESCRIPTION:
PRIORITY:5
CLASS:PUBLIC
END:VEVENT
END:VCALENDAR